BEGIN:VCALENDAR
VERSION:2.0
PRODID:-//Sabre//Sabre VObject 4.5.8//EN
CALSCALE:GREGORIAN
NAME:AC London 1997
X-WR-CALNAME:AC London 1997
BEGIN:VTIMEZONE
TZID:UTC
X-MICROSOFT-CDO-TZID:0
BEGIN:STANDARD
DTSTART:19960121T000000
TZOFFSETFROM:+0000
TZOFFSETTO:+0000
TZNAME:UTC
END:STANDARD
END:VTIMEZONE
BEGIN:VEVENT
UID:fc9e7f26-6fde-4c5a-8379-59832d6babca
DTSTAMP:20221014T114607Z
SUMMARY:AC London 1997
DTSTART:19970115T000000Z
DTEND:19970116T235959Z
DESCRIPTION:https://www.w3.org/events/ac/1997/ac-london-1997/\n\n
STATUS:CONFIRMED
CREATED:20221014T114600Z
LAST-MODIFIED:20221014T114607Z
END:VEVENT
END:VCALENDAR
