BEGIN:VCALENDAR
VERSION:2.0
PRODID:-//Sabre//Sabre VObject 4.5.8//EN
CALSCALE:GREGORIAN
NAME:AC Tokyo 1997
X-WR-CALNAME:AC Tokyo 1997
BEGIN:VTIMEZONE
TZID:UTC
X-MICROSOFT-CDO-TZID:0
BEGIN:STANDARD
DTSTART:19960623T000000
TZOFFSETFROM:+0000
TZOFFSETTO:+0000
TZNAME:UTC
END:STANDARD
END:VTIMEZONE
BEGIN:VEVENT
UID:c864d4d7-3de4-4b8e-a606-24de074a49e6
DTSTAMP:20221014T114606Z
SUMMARY:AC Tokyo 1997
DTSTART:19970618T000000Z
DTEND:19970619T235959Z
DESCRIPTION:https://www.w3.org/events/ac/1997/ac-tokyo-1997/\n\n
STATUS:CONFIRMED
CREATED:20221014T114600Z
LAST-MODIFIED:20221014T114606Z
END:VEVENT
END:VCALENDAR
