BEGIN:VCALENDAR
VERSION:2.0
PRODID:-//Sabre//Sabre VObject 4.5.8//EN
CALSCALE:GREGORIAN
NAME:AC Geneva 1998
X-WR-CALNAME:AC Geneva 1998
BEGIN:VTIMEZONE
TZID:UTC
X-MICROSOFT-CDO-TZID:0
BEGIN:STANDARD
DTSTART:19970629T000000
TZOFFSETFROM:+0000
TZOFFSETTO:+0000
TZNAME:UTC
END:STANDARD
END:VTIMEZONE
BEGIN:VEVENT
UID:5a3dc9ae-a735-4a73-b72b-cb559c823576
DTSTAMP:20221014T114606Z
SUMMARY:AC Geneva 1998
DTSTART:19980624T000000Z
DTEND:19980625T235959Z
DESCRIPTION:https://www.w3.org/events/ac/1998/ac-geneva-1998/\n\n
STATUS:CONFIRMED
CREATED:20221014T114600Z
LAST-MODIFIED:20221014T114606Z
END:VEVENT
END:VCALENDAR
