BEGIN:VCALENDAR
VERSION:2.0
PRODID:-//Sabre//Sabre VObject 4.5.8//EN
CALSCALE:GREGORIAN
NAME:AC Kyoto 1998
X-WR-CALNAME:AC Kyoto 1998
BEGIN:VTIMEZONE
TZID:UTC
X-MICROSOFT-CDO-TZID:0
BEGIN:STANDARD
DTSTART:19971123T000000
TZOFFSETFROM:+0000
TZOFFSETTO:+0000
TZNAME:UTC
END:STANDARD
END:VTIMEZONE
BEGIN:VEVENT
UID:c1a992b0-499d-4d50-9990-4a8b11c49ba0
DTSTAMP:20221014T114606Z
SUMMARY:AC Kyoto 1998
DTSTART:19981118T000000Z
DTEND:19981119T235959Z
DESCRIPTION:https://www.w3.org/events/ac/1998/ac-kyoto-1998/\n\n
STATUS:CONFIRMED
CREATED:20221014T114600Z
LAST-MODIFIED:20221014T114606Z
END:VEVENT
END:VCALENDAR
