BEGIN:VCALENDAR
VERSION:2.0
PRODID:-//Sabre//Sabre VObject 4.5.8//EN
CALSCALE:GREGORIAN
NAME:AC San Jose 1998
X-WR-CALNAME:AC San Jose 1998
BEGIN:VTIMEZONE
TZID:UTC
X-MICROSOFT-CDO-TZID:0
BEGIN:STANDARD
DTSTART:19970119T000000
TZOFFSETFROM:+0000
TZOFFSETTO:+0000
TZNAME:UTC
END:STANDARD
END:VTIMEZONE
BEGIN:VEVENT
UID:c1e14dc9-125f-473c-9b14-5abcd54987a0
DTSTAMP:20221014T114606Z
SUMMARY:AC San Jose 1998
DTSTART:19980114T000000Z
DTEND:19980115T235959Z
DESCRIPTION:https://www.w3.org/events/ac/1998/ac-san-jose-1998/\n\n
STATUS:CONFIRMED
CREATED:20221014T114600Z
LAST-MODIFIED:20221014T114606Z
END:VEVENT
END:VCALENDAR
