BEGIN:VCALENDAR
VERSION:2.0
PRODID:-//Sabre//Sabre VObject 4.5.8//EN
CALSCALE:GREGORIAN
NAME:AC Cambridge 1999
X-WR-CALNAME:AC Cambridge 1999
BEGIN:VTIMEZONE
TZID:UTC
X-MICROSOFT-CDO-TZID:0
BEGIN:STANDARD
DTSTART:19981107T000000
TZOFFSETFROM:+0000
TZOFFSETTO:+0000
TZNAME:UTC
END:STANDARD
END:VTIMEZONE
BEGIN:VEVENT
UID:9cbd2791-1254-4061-9dc9-1a92940338a2
DTSTAMP:20221014T114606Z
SUMMARY:AC Cambridge 1999
DTSTART:19991102T000000Z
DTEND:19991104T235959Z
DESCRIPTION:https://www.w3.org/events/ac/1999/ac-cambridge-1999/\n\n
STATUS:CONFIRMED
CREATED:20221014T114600Z
LAST-MODIFIED:20221014T114606Z
END:VEVENT
END:VCALENDAR
