BEGIN:VCALENDAR
VERSION:2.0
PRODID:-//Sabre//Sabre VObject 4.5.8//EN
CALSCALE:GREGORIAN
NAME:AC Toronto 1999
X-WR-CALNAME:AC Toronto 1999
BEGIN:VTIMEZONE
TZID:UTC
X-MICROSOFT-CDO-TZID:0
BEGIN:STANDARD
DTSTART:19980515T000000
TZOFFSETFROM:+0000
TZOFFSETTO:+0000
TZNAME:UTC
END:STANDARD
END:VTIMEZONE
BEGIN:VEVENT
UID:14024c9e-a84e-4364-9d65-4b5c380f6209
DTSTAMP:20221014T114606Z
SUMMARY:AC Toronto 1999
DTSTART:19990510T000000Z
DTEND:19990511T235959Z
DESCRIPTION:https://www.w3.org/events/ac/1999/ac-toronto-1999/\n\n
STATUS:CONFIRMED
CREATED:20221014T114600Z
LAST-MODIFIED:20221014T114606Z
END:VEVENT
END:VCALENDAR
