BEGIN:VCALENDAR
VERSION:2.0
PRODID:-//Sabre//Sabre VObject 4.5.8//EN
CALSCALE:GREGORIAN
NAME:AC Amsterdam 2000
X-WR-CALNAME:AC Amsterdam 2000
BEGIN:VTIMEZONE
TZID:UTC
X-MICROSOFT-CDO-TZID:0
BEGIN:STANDARD
DTSTART:19990528T000000
TZOFFSETFROM:+0000
TZOFFSETTO:+0000
TZNAME:UTC
END:STANDARD
END:VTIMEZONE
BEGIN:VEVENT
UID:052bbfa3-2084-4d08-b74e-4e60ec705561
DTSTAMP:20221014T114605Z
SUMMARY:AC Amsterdam 2000
DTSTART:20000522T000000Z
DTEND:20000523T235959Z
DESCRIPTION:https://www.w3.org/events/ac/2000/ac-amsterdam-2000/\n\n
STATUS:CONFIRMED
CREATED:20221014T114600Z
LAST-MODIFIED:20221014T114605Z
END:VEVENT
END:VCALENDAR
