BEGIN:VCALENDAR
VERSION:2.0
PRODID:-//Sabre//Sabre VObject 4.5.8//EN
CALSCALE:GREGORIAN
NAME:AC Cambridge 2000
X-WR-CALNAME:AC Cambridge 2000
BEGIN:VTIMEZONE
TZID:UTC
X-MICROSOFT-CDO-TZID:0
BEGIN:STANDARD
DTSTART:19991204T000000
TZOFFSETFROM:+0000
TZOFFSETTO:+0000
TZNAME:UTC
END:STANDARD
END:VTIMEZONE
BEGIN:VEVENT
UID:e04e5201-08ad-4440-845d-869bb1c4a5e3
DTSTAMP:20221014T114605Z
SUMMARY:AC Cambridge 2000
DTSTART:20001128T000000Z
DTEND:20001130T235959Z
DESCRIPTION:https://www.w3.org/events/ac/2000/ac-cambridge-2000/\n\n
STATUS:CONFIRMED
CREATED:20221014T114600Z
LAST-MODIFIED:20221014T114605Z
END:VEVENT
END:VCALENDAR
