BEGIN:VCALENDAR
VERSION:2.0
PRODID:-//Sabre//Sabre VObject 4.5.8//EN
CALSCALE:GREGORIAN
NAME:AC Hong Kong 2001
X-WR-CALNAME:AC Hong Kong 2001
BEGIN:VTIMEZONE
TZID:UTC
X-MICROSOFT-CDO-TZID:0
BEGIN:STANDARD
DTSTART:20000505T000000
TZOFFSETFROM:+0000
TZOFFSETTO:+0000
TZNAME:UTC
END:STANDARD
END:VTIMEZONE
BEGIN:VEVENT
UID:1fbab452-69ff-4a5c-a1b9-236e43101045
DTSTAMP:20221014T114605Z
SUMMARY:AC Hong Kong 2001
DTSTART:20010430T000000Z
DTEND:20010501T235959Z
DESCRIPTION:https://www.w3.org/events/ac/2001/ac-hong-kong-2001/\n\n
STATUS:CONFIRMED
CREATED:20221014T114600Z
LAST-MODIFIED:20221014T114605Z
END:VEVENT
END:VCALENDAR
