BEGIN:VCALENDAR
VERSION:2.0
PRODID:-//Sabre//Sabre VObject 4.5.8//EN
CALSCALE:GREGORIAN
NAME:AC Nice 2001
X-WR-CALNAME:AC Nice 2001
BEGIN:VTIMEZONE
TZID:UTC
X-MICROSOFT-CDO-TZID:0
BEGIN:STANDARD
DTSTART:20001111T000000
TZOFFSETFROM:+0000
TZOFFSETTO:+0000
TZNAME:UTC
END:STANDARD
END:VTIMEZONE
BEGIN:VEVENT
UID:ec82fec8-e98f-4690-b861-fe368824b551
DTSTAMP:20221014T114605Z
SUMMARY:AC Nice 2001
DTSTART:20011106T000000Z
DTEND:20011107T235959Z
DESCRIPTION:https://www.w3.org/events/ac/2001/ac-nice-2001/\n\n
STATUS:CONFIRMED
CREATED:20221014T114600Z
LAST-MODIFIED:20221014T114605Z
END:VEVENT
END:VCALENDAR
