BEGIN:VCALENDAR
VERSION:2.0
PRODID:-//Sabre//Sabre VObject 4.5.8//EN
CALSCALE:GREGORIAN
NAME:AC Cambridge 2002
X-WR-CALNAME:AC Cambridge 2002
BEGIN:VTIMEZONE
TZID:UTC
X-MICROSOFT-CDO-TZID:0
BEGIN:STANDARD
DTSTART:20011123T000000
TZOFFSETFROM:+0000
TZOFFSETTO:+0000
TZNAME:UTC
END:STANDARD
END:VTIMEZONE
BEGIN:VEVENT
UID:e3123073-b77b-4be8-84fd-451ff14e18f2
DTSTAMP:20221014T114605Z
SUMMARY:AC Cambridge 2002
DTSTART:20021118T000000Z
DTEND:20021120T235959Z
DESCRIPTION:https://www.w3.org/events/ac/2002/ac-cambridge-2002/\n\n
STATUS:CONFIRMED
CREATED:20221014T114600Z
LAST-MODIFIED:20221014T114605Z
END:VEVENT
END:VCALENDAR
