BEGIN:VCALENDAR
VERSION:2.0
PRODID:-//Sabre//Sabre VObject 4.5.8//EN
CALSCALE:GREGORIAN
NAME:AC Honolulu 2002
X-WR-CALNAME:AC Honolulu 2002
BEGIN:VTIMEZONE
TZID:UTC
X-MICROSOFT-CDO-TZID:0
BEGIN:STANDARD
DTSTART:20010510T000000
TZOFFSETFROM:+0000
TZOFFSETTO:+0000
TZNAME:UTC
END:STANDARD
END:VTIMEZONE
BEGIN:VEVENT
UID:198d6ba8-02eb-4189-91a3-4bd569b6d3bf
DTSTAMP:20221014T114605Z
SUMMARY:AC Honolulu 2002
DTSTART:20020505T000000Z
DTEND:20020507T235959Z
DESCRIPTION:https://www.w3.org/events/ac/2002/ac-honolulu-2002/\n\n
STATUS:CONFIRMED
CREATED:20221014T114600Z
LAST-MODIFIED:20221014T114605Z
END:VEVENT
END:VCALENDAR
