BEGIN:VCALENDAR
VERSION:2.0
PRODID:-//Sabre//Sabre VObject 4.5.8//EN
CALSCALE:GREGORIAN
NAME:AC Budapest 2003
X-WR-CALNAME:AC Budapest 2003
BEGIN:VTIMEZONE
TZID:UTC
X-MICROSOFT-CDO-TZID:0
BEGIN:STANDARD
DTSTART:20020523T000000
TZOFFSETFROM:+0000
TZOFFSETTO:+0000
TZNAME:UTC
END:STANDARD
END:VTIMEZONE
BEGIN:VEVENT
UID:25e11f99-048f-45a2-ac5f-d8cecc563e19
DTSTAMP:20221014T114604Z
SUMMARY:AC Budapest 2003
DTSTART:20030518T000000Z
DTEND:20030520T235959Z
DESCRIPTION:https://www.w3.org/events/ac/2003/ac-budapest-2003/\n\n
STATUS:CONFIRMED
CREATED:20221014T114600Z
LAST-MODIFIED:20221014T114604Z
END:VEVENT
END:VCALENDAR
