BEGIN:VCALENDAR
VERSION:2.0
PRODID:-//Sabre//Sabre VObject 4.5.8//EN
CALSCALE:GREGORIAN
NAME:AC Kanagawa 2003
X-WR-CALNAME:AC Kanagawa 2003
BEGIN:VTIMEZONE
TZID:UTC
X-MICROSOFT-CDO-TZID:0
BEGIN:STANDARD
DTSTART:20021122T000000
TZOFFSETFROM:+0000
TZOFFSETTO:+0000
TZNAME:UTC
END:STANDARD
END:VTIMEZONE
BEGIN:VEVENT
UID:c02ecfb6-c8d9-45da-8d10-eab3699f68c2
DTSTAMP:20221014T114604Z
SUMMARY:AC Kanagawa 2003
DTSTART:20031117T000000Z
DTEND:20031119T235959Z
DESCRIPTION:https://www.w3.org/events/ac/2003/ac-kanagawa-2003/\n\n
STATUS:CONFIRMED
CREATED:20221014T114600Z
LAST-MODIFIED:20221014T114604Z
END:VEVENT
END:VCALENDAR
