BEGIN:VCALENDAR
VERSION:2.0
PRODID:-//Sabre//Sabre VObject 4.5.8//EN
CALSCALE:GREGORIAN
NAME:AC Boston 2004
X-WR-CALNAME:AC Boston 2004
BEGIN:VTIMEZONE
TZID:UTC
X-MICROSOFT-CDO-TZID:0
BEGIN:STANDARD
DTSTART:20031208T000000
TZOFFSETFROM:+0000
TZOFFSETTO:+0000
TZNAME:UTC
END:STANDARD
END:VTIMEZONE
BEGIN:VEVENT
UID:2ad6319f-80ca-44f9-aa21-d711e7bf3a19
DTSTAMP:20221014T114604Z
SUMMARY:AC Boston 2004
DTSTART:20041202T000000Z
DTEND:20041203T235959Z
DESCRIPTION:https://www.w3.org/events/ac/2004/ac-boston-2004/\n\n
STATUS:CONFIRMED
CREATED:20221014T114600Z
LAST-MODIFIED:20221014T114604Z
END:VEVENT
END:VCALENDAR
