BEGIN:VCALENDAR
VERSION:2.0
PRODID:-//Sabre//Sabre VObject 4.5.8//EN
CALSCALE:GREGORIAN
NAME:AC New York 2004
X-WR-CALNAME:AC New York 2004
BEGIN:VTIMEZONE
TZID:UTC
X-MICROSOFT-CDO-TZID:0
BEGIN:STANDARD
DTSTART:20030522T000000
TZOFFSETFROM:+0000
TZOFFSETTO:+0000
TZNAME:UTC
END:STANDARD
END:VTIMEZONE
BEGIN:VEVENT
UID:89d6f811-9a29-463e-8a66-896762c16f81
DTSTAMP:20221014T114604Z
SUMMARY:AC New York 2004
DTSTART:20040516T000000Z
DTEND:20040518T235959Z
DESCRIPTION:https://www.w3.org/events/ac/2004/ac-new-york-2004/\n\n
STATUS:CONFIRMED
CREATED:20221014T114600Z
LAST-MODIFIED:20221014T114604Z
END:VEVENT
END:VCALENDAR
