BEGIN:VCALENDAR
VERSION:2.0
PRODID:-//Sabre//Sabre VObject 4.5.8//EN
CALSCALE:GREGORIAN
NAME:AC Mandelieu 2005
X-WR-CALNAME:AC Mandelieu 2005
BEGIN:VTIMEZONE
TZID:UTC
X-MICROSOFT-CDO-TZID:0
BEGIN:STANDARD
DTSTART:20040611T000000
TZOFFSETFROM:+0000
TZOFFSETTO:+0000
TZNAME:UTC
END:STANDARD
END:VTIMEZONE
BEGIN:VEVENT
UID:74b29940-435f-499e-af82-45db5b6399ef
DTSTAMP:20221014T114604Z
SUMMARY:AC Mandelieu 2005
DTSTART:20050606T000000Z
DTEND:20050607T235959Z
DESCRIPTION:https://www.w3.org/events/ac/2005/ac-mandelieu-2005/\n\n
STATUS:CONFIRMED
CREATED:20221014T114600Z
LAST-MODIFIED:20221014T114604Z
END:VEVENT
END:VCALENDAR
