BEGIN:VCALENDAR
VERSION:2.0
PRODID:-//Sabre//Sabre VObject 4.5.8//EN
CALSCALE:GREGORIAN
NAME:AC Montréal 2005
X-WR-CALNAME:AC Montréal 2005
BEGIN:VTIMEZONE
TZID:UTC
X-MICROSOFT-CDO-TZID:0
BEGIN:STANDARD
DTSTART:20041204T000000
TZOFFSETFROM:+0000
TZOFFSETTO:+0000
TZNAME:UTC
END:STANDARD
END:VTIMEZONE
BEGIN:VEVENT
UID:cf6f0715-5039-49c6-92fc-9e69b87ca17f
DTSTAMP:20221014T114604Z
SUMMARY:AC Montréal 2005
DTSTART:20051129T000000Z
DTEND:20051201T235959Z
DESCRIPTION:https://www.w3.org/events/ac/2005/ac-montr%C3%A9al-2005/\n\n
STATUS:CONFIRMED
CREATED:20221014T114600Z
LAST-MODIFIED:20221014T114604Z
END:VEVENT
END:VCALENDAR
