BEGIN:VCALENDAR
VERSION:2.0
PRODID:-//Sabre//Sabre VObject 4.5.8//EN
CALSCALE:GREGORIAN
NAME:AC Edinburgh 2006
X-WR-CALNAME:AC Edinburgh 2006
BEGIN:VTIMEZONE
TZID:UTC
X-MICROSOFT-CDO-TZID:0
BEGIN:STANDARD
DTSTART:20050526T000000
TZOFFSETFROM:+0000
TZOFFSETTO:+0000
TZNAME:UTC
END:STANDARD
END:VTIMEZONE
BEGIN:VEVENT
UID:1544b0de-05ef-4759-a891-e00ade40cac1
DTSTAMP:20221014T114604Z
SUMMARY:AC Edinburgh 2006
DTSTART:20060521T000000Z
DTEND:20060522T235959Z
DESCRIPTION:https://www.w3.org/events/ac/2006/ac-edinburgh-2006/\n\n
STATUS:CONFIRMED
CREATED:20221014T114600Z
LAST-MODIFIED:20221014T114604Z
END:VEVENT
END:VCALENDAR
