BEGIN:VCALENDAR
VERSION:2.0
PRODID:-//Sabre//Sabre VObject 4.5.8//EN
CALSCALE:GREGORIAN
NAME:AC Tokyo 2006
X-WR-CALNAME:AC Tokyo 2006
BEGIN:VTIMEZONE
TZID:UTC
X-MICROSOFT-CDO-TZID:0
BEGIN:STANDARD
DTSTART:20051204T000000
TZOFFSETFROM:+0000
TZOFFSETTO:+0000
TZNAME:UTC
END:STANDARD
END:VTIMEZONE
BEGIN:VEVENT
UID:ce636ecf-8771-4fa2-bd22-0d614ad25332
DTSTAMP:20221014T114603Z
SUMMARY:AC Tokyo 2006
DTSTART:20061129T000000Z
DTEND:20061130T235959Z
DESCRIPTION:https://www.w3.org/events/ac/2006/ac-tokyo-2006/\n\n
STATUS:CONFIRMED
CREATED:20221014T114600Z
LAST-MODIFIED:20221014T114603Z
END:VEVENT
END:VCALENDAR
