BEGIN:VCALENDAR
VERSION:2.0
PRODID:-//Sabre//Sabre VObject 4.5.8//EN
CALSCALE:GREGORIAN
NAME:AC Banff 2007
X-WR-CALNAME:AC Banff 2007
BEGIN:VTIMEZONE
TZID:UTC
X-MICROSOFT-CDO-TZID:0
BEGIN:STANDARD
DTSTART:20060511T000000
TZOFFSETFROM:+0000
TZOFFSETTO:+0000
TZNAME:UTC
END:STANDARD
END:VTIMEZONE
BEGIN:VEVENT
UID:7a800001-32a1-474b-b091-b269d09f25e5
DTSTAMP:20221014T114603Z
SUMMARY:AC Banff 2007
DTSTART:20070506T000000Z
DTEND:20070508T235959Z
DESCRIPTION:https://www.w3.org/events/ac/2007/ac-banff-2007/\n\n
STATUS:CONFIRMED
CREATED:20221014T114600Z
LAST-MODIFIED:20221014T114603Z
END:VEVENT
END:VCALENDAR
