BEGIN:VCALENDAR
VERSION:2.0
PRODID:-//Sabre//Sabre VObject 4.5.8//EN
CALSCALE:GREGORIAN
NAME:AC Cambridge 2007
X-WR-CALNAME:AC Cambridge 2007
BEGIN:VTIMEZONE
TZID:UTC
X-MICROSOFT-CDO-TZID:0
BEGIN:STANDARD
DTSTART:20061111T000000
TZOFFSETFROM:+0000
TZOFFSETTO:+0000
TZNAME:UTC
END:STANDARD
END:VTIMEZONE
BEGIN:VEVENT
UID:b4ffe19d-1db3-487d-b91c-a9a55f80f4e5
DTSTAMP:20221014T114603Z
SUMMARY:AC Cambridge 2007
DTSTART:20071106T000000Z
DTEND:20071108T235959Z
DESCRIPTION:https://www.w3.org/events/ac/2007/ac-cambridge-2007/\n\n
STATUS:CONFIRMED
CREATED:20221014T114600Z
LAST-MODIFIED:20221014T114603Z
END:VEVENT
END:VCALENDAR
