BEGIN:VCALENDAR
VERSION:2.0
PRODID:-//Sabre//Sabre VObject 4.5.8//EN
CALSCALE:GREGORIAN
NAME:AC Beijing 2008
X-WR-CALNAME:AC Beijing 2008
BEGIN:VTIMEZONE
TZID:UTC
X-MICROSOFT-CDO-TZID:0
BEGIN:STANDARD
DTSTART:20070426T000000
TZOFFSETFROM:+0000
TZOFFSETTO:+0000
TZNAME:UTC
END:STANDARD
END:VTIMEZONE
BEGIN:VEVENT
UID:0dceca3b-d8a9-423b-a723-ef43965adb49
DTSTAMP:20221014T114609Z
SUMMARY:AC Beijing 2008
DTSTART:20080420T000000Z
DTEND:20080422T235959Z
DESCRIPTION:https://www.w3.org/events/ac/2008/ac-beijing-2008/\n\n
STATUS:CONFIRMED
CREATED:20221014T114600Z
LAST-MODIFIED:20221014T114609Z
END:VEVENT
END:VCALENDAR
