BEGIN:VCALENDAR
VERSION:2.0
PRODID:-//Sabre//Sabre VObject 4.5.8//EN
CALSCALE:GREGORIAN
NAME:AC Mandelieu 2008
X-WR-CALNAME:AC Mandelieu 2008
BEGIN:VTIMEZONE
TZID:UTC
X-MICROSOFT-CDO-TZID:0
BEGIN:STANDARD
DTSTART:20071027T000000
TZOFFSETFROM:+0000
TZOFFSETTO:+0000
TZNAME:UTC
END:STANDARD
END:VTIMEZONE
BEGIN:VEVENT
UID:2bbe1529-991a-46a7-aeef-ae0e70ca560b
DTSTAMP:20221014T114609Z
SUMMARY:AC Mandelieu 2008
DTSTART:20081021T000000Z
DTEND:20081023T235959Z
DESCRIPTION:https://www.w3.org/events/ac/2008/ac-mandelieu-2008/\n\n
STATUS:CONFIRMED
CREATED:20221014T114600Z
LAST-MODIFIED:20221014T114609Z
END:VEVENT
END:VCALENDAR
