BEGIN:VCALENDAR
VERSION:2.0
PRODID:-//Sabre//Sabre VObject 4.5.8//EN
CALSCALE:GREGORIAN
NAME:AC Cambridge 2009
X-WR-CALNAME:AC Cambridge 2009
BEGIN:VTIMEZONE
TZID:UTC
X-MICROSOFT-CDO-TZID:0
BEGIN:STANDARD
DTSTART:20080327T000000
TZOFFSETFROM:+0000
TZOFFSETTO:+0000
TZNAME:UTC
END:STANDARD
END:VTIMEZONE
BEGIN:VEVENT
UID:0520a937-de7e-4f0c-a85a-229bd0ce8ec4
DTSTAMP:20221014T114603Z
SUMMARY:AC Cambridge 2009
DTSTART:20090322T000000Z
DTEND:20090324T235959Z
DESCRIPTION:https://www.w3.org/events/ac/2009/ac-cambridge-2009/\n\n
STATUS:CONFIRMED
CREATED:20221014T114600Z
LAST-MODIFIED:20221014T114603Z
END:VEVENT
END:VCALENDAR
