BEGIN:VCALENDAR
VERSION:2.0
PRODID:-//Sabre//Sabre VObject 4.5.8//EN
CALSCALE:GREGORIAN
NAME:AC Santa Clara 2009
X-WR-CALNAME:AC Santa Clara 2009
BEGIN:VTIMEZONE
TZID:UTC
X-MICROSOFT-CDO-TZID:0
BEGIN:STANDARD
DTSTART:20081108T000000
TZOFFSETFROM:+0000
TZOFFSETTO:+0000
TZNAME:UTC
END:STANDARD
END:VTIMEZONE
BEGIN:VEVENT
UID:9f91885e-dc10-421e-a02d-1071679c5308
DTSTAMP:20221014T114617Z
SUMMARY:AC Santa Clara 2009
DTSTART:20091103T000000Z
DTEND:20091105T235959Z
DESCRIPTION:https://www.w3.org/events/ac/2009/ac-santa-clara-2009/\n\n
STATUS:CONFIRMED
CREATED:20221014T114600Z
LAST-MODIFIED:20221014T114617Z
END:VEVENT
END:VCALENDAR
