BEGIN:VCALENDAR
VERSION:2.0
PRODID:-//Sabre//Sabre VObject 4.5.8//EN
CALSCALE:GREGORIAN
NAME:AC Cambridge 2010
X-WR-CALNAME:AC Cambridge 2010
BEGIN:VTIMEZONE
TZID:UTC
X-MICROSOFT-CDO-TZID:0
BEGIN:STANDARD
DTSTART:20090326T000000
TZOFFSETFROM:+0000
TZOFFSETTO:+0000
TZNAME:UTC
END:STANDARD
END:VTIMEZONE
BEGIN:VEVENT
UID:a1cccfa7-e6d1-44a5-8e3f-fcb0a4fd80f2
DTSTAMP:20221014T114612Z
SUMMARY:AC Cambridge 2010
DTSTART:20100321T000000Z
DTEND:20100323T235959Z
DESCRIPTION:https://www.w3.org/events/ac/2010/ac-cambridge-2010/\n\n
STATUS:CONFIRMED
CREATED:20221014T114600Z
LAST-MODIFIED:20221014T114612Z
END:VEVENT
END:VCALENDAR
