BEGIN:VCALENDAR
VERSION:2.0
PRODID:-//Sabre//Sabre VObject 4.5.8//EN
CALSCALE:GREGORIAN
NAME:AC Lyon 2010
X-WR-CALNAME:AC Lyon 2010
BEGIN:VTIMEZONE
TZID:UTC
X-MICROSOFT-CDO-TZID:0
BEGIN:STANDARD
DTSTART:20091107T000000
TZOFFSETFROM:+0000
TZOFFSETTO:+0000
TZNAME:UTC
END:STANDARD
END:VTIMEZONE
BEGIN:VEVENT
UID:3329aca6-98a2-4700-985a-8b0bce5f63fe
DTSTAMP:20221014T114617Z
SUMMARY:AC Lyon 2010
DTSTART:20101102T000000Z
DTEND:20101104T235959Z
DESCRIPTION:https://www.w3.org/events/ac/2010/ac-lyon-2010/\n\n
STATUS:CONFIRMED
CREATED:20221014T114600Z
LAST-MODIFIED:20221014T114617Z
END:VEVENT
END:VCALENDAR
