BEGIN:VCALENDAR
VERSION:2.0
PRODID:-//Sabre//Sabre VObject 4.5.8//EN
CALSCALE:GREGORIAN
NAME:AC Bilbao 2011
X-WR-CALNAME:AC Bilbao 2011
BEGIN:VTIMEZONE
TZID:UTC
X-MICROSOFT-CDO-TZID:0
BEGIN:STANDARD
DTSTART:20100520T000000
TZOFFSETFROM:+0000
TZOFFSETTO:+0000
TZNAME:UTC
END:STANDARD
END:VTIMEZONE
BEGIN:VEVENT
UID:b87d415a-9cb7-42d7-a911-ff693be14c66
DTSTAMP:20221014T114620Z
SUMMARY:AC Bilbao 2011
DTSTART:20110515T000000Z
DTEND:20110517T235959Z
DESCRIPTION:https://www.w3.org/events/ac/2011/ac-bilbao-2011/\n\n
STATUS:CONFIRMED
CREATED:20221014T114600Z
LAST-MODIFIED:20221014T114620Z
END:VEVENT
END:VCALENDAR
