BEGIN:VCALENDAR
VERSION:2.0
PRODID:-//Sabre//Sabre VObject 4.5.8//EN
CALSCALE:GREGORIAN
NAME:AC Santa Clara 2011
X-WR-CALNAME:AC Santa Clara 2011
BEGIN:VTIMEZONE
TZID:UTC
X-MICROSOFT-CDO-TZID:0
BEGIN:STANDARD
DTSTART:20101106T000000
TZOFFSETFROM:+0000
TZOFFSETTO:+0000
TZNAME:UTC
END:STANDARD
END:VTIMEZONE
BEGIN:VEVENT
UID:d437a64a-b588-4e45-9400-0e3a802df77b
DTSTAMP:20221014T114637Z
SUMMARY:AC Santa Clara 2011
DTSTART:20111101T000000Z
DTEND:20111103T235959Z
DESCRIPTION:https://www.w3.org/events/ac/2011/ac-santa-clara-2011/\n\n
STATUS:CONFIRMED
CREATED:20221014T114600Z
LAST-MODIFIED:20221014T114637Z
END:VEVENT
END:VCALENDAR
