BEGIN:VCALENDAR
VERSION:2.0
PRODID:-//Sabre//Sabre VObject 4.5.8//EN
CALSCALE:GREGORIAN
NAME:AC Lyon 2012
X-WR-CALNAME:AC Lyon 2012
BEGIN:VTIMEZONE
TZID:UTC
X-MICROSOFT-CDO-TZID:0
BEGIN:STANDARD
DTSTART:20111105T000000
TZOFFSETFROM:+0000
TZOFFSETTO:+0000
TZNAME:UTC
END:STANDARD
END:VTIMEZONE
BEGIN:VEVENT
UID:05071428-e5f5-4523-826c-5f1a13ccb7b1
DTSTAMP:20221014T114643Z
SUMMARY:AC Lyon 2012
DTSTART:20121030T000000Z
DTEND:20121101T235959Z
DESCRIPTION:https://www.w3.org/events/ac/2012/ac-lyon-2012/\n\n
STATUS:CONFIRMED
CREATED:20221014T114600Z
LAST-MODIFIED:20221014T114643Z
END:VEVENT
END:VCALENDAR
