BEGIN:VCALENDAR
VERSION:2.0
PRODID:-//Sabre//Sabre VObject 4.5.8//EN
CALSCALE:GREGORIAN
NAME:AC Sophia-Antipolis 2012
X-WR-CALNAME:AC Sophia-Antipolis 2012
BEGIN:VTIMEZONE
TZID:UTC
X-MICROSOFT-CDO-TZID:0
BEGIN:STANDARD
DTSTART:20110519T000000
TZOFFSETFROM:+0000
TZOFFSETTO:+0000
TZNAME:UTC
END:STANDARD
END:VTIMEZONE
BEGIN:VEVENT
UID:b0263d9e-1ca5-4e37-a291-7d0b0cf08442
DTSTAMP:20221014T114634Z
SUMMARY:AC Sophia-Antipolis 2012
DTSTART:20120513T000000Z
DTEND:20120515T235959Z
DESCRIPTION:https://www.w3.org/events/ac/2012/ac-sophia-antipolis-2012/\n\n
STATUS:CONFIRMED
CREATED:20221014T114600Z
LAST-MODIFIED:20221014T114634Z
END:VEVENT
END:VCALENDAR
