BEGIN:VCALENDAR
VERSION:2.0
PRODID:-//Sabre//Sabre VObject 4.5.8//EN
CALSCALE:GREGORIAN
NAME:AC Shenzhen 2013
X-WR-CALNAME:AC Shenzhen 2013
BEGIN:VTIMEZONE
TZID:UTC
X-MICROSOFT-CDO-TZID:0
BEGIN:STANDARD
DTSTART:20121117T000000
TZOFFSETFROM:+0000
TZOFFSETTO:+0000
TZNAME:UTC
END:STANDARD
END:VTIMEZONE
BEGIN:VEVENT
UID:e8cdc31b-4413-4350-8d10-38a75a56f91a
DTSTAMP:20221014T114703Z
SUMMARY:AC Shenzhen 2013
DTSTART:20131112T000000Z
DTEND:20131114T235959Z
DESCRIPTION:https://www.w3.org/events/ac/2013/ac-shenzhen-2013/\n\n
STATUS:CONFIRMED
CREATED:20221014T114700Z
LAST-MODIFIED:20221014T114703Z
END:VEVENT
END:VCALENDAR
