BEGIN:VCALENDAR
VERSION:2.0
PRODID:-//Sabre//Sabre VObject 4.5.8//EN
CALSCALE:GREGORIAN
NAME:AC Tokyo 2013
X-WR-CALNAME:AC Tokyo 2013
BEGIN:VTIMEZONE
TZID:UTC
X-MICROSOFT-CDO-TZID:0
BEGIN:STANDARD
DTSTART:20120614T000000
TZOFFSETFROM:+0000
TZOFFSETTO:+0000
TZNAME:UTC
END:STANDARD
END:VTIMEZONE
BEGIN:VEVENT
UID:274e558e-8cb9-46b1-bf05-abdd706f2418
DTSTAMP:20221014T114645Z
SUMMARY:AC Tokyo 2013
DTSTART:20130609T000000Z
DTEND:20130611T235959Z
DESCRIPTION:https://www.w3.org/events/ac/2013/ac-tokyo-2013/\n\n
STATUS:CONFIRMED
CREATED:20221014T114600Z
LAST-MODIFIED:20221014T114645Z
END:VEVENT
END:VCALENDAR
