BEGIN:VCALENDAR
VERSION:2.0
PRODID:-//Sabre//Sabre VObject 4.5.8//EN
CALSCALE:GREGORIAN
NAME:AC Cambridge 2014
X-WR-CALNAME:AC Cambridge 2014
BEGIN:VTIMEZONE
TZID:UTC
X-MICROSOFT-CDO-TZID:0
BEGIN:STANDARD
DTSTART:20130613T000000
TZOFFSETFROM:+0000
TZOFFSETTO:+0000
TZNAME:UTC
END:STANDARD
END:VTIMEZONE
BEGIN:VEVENT
UID:3bf25f6a-1e1d-470d-85f2-cac7ac4d6a9c
DTSTAMP:20221014T114658Z
SUMMARY:AC Cambridge 2014
DTSTART:20140608T000000Z
DTEND:20140610T235959Z
DESCRIPTION:https://www.w3.org/events/ac/2014/ac-cambridge-2014/\n\n
STATUS:CONFIRMED
CREATED:20221014T114600Z
LAST-MODIFIED:20221014T114658Z
END:VEVENT
END:VCALENDAR
