BEGIN:VCALENDAR
VERSION:2.0
PRODID:-//Sabre//Sabre VObject 4.5.8//EN
CALSCALE:GREGORIAN
NAME:AC Santa Clara 2014
X-WR-CALNAME:AC Santa Clara 2014
BEGIN:VTIMEZONE
TZID:UTC
X-MICROSOFT-CDO-TZID:0
BEGIN:STANDARD
DTSTART:20131102T000000
TZOFFSETFROM:+0000
TZOFFSETTO:+0000
TZNAME:UTC
END:STANDARD
END:VTIMEZONE
BEGIN:VEVENT
UID:d38668eb-89e5-40d3-97ca-31767b62817e
DTSTAMP:20221014T114711Z
SUMMARY:AC Santa Clara 2014
DTSTART:20141028T000000Z
DTEND:20141030T235959Z
DESCRIPTION:https://www.w3.org/events/ac/2014/ac-santa-clara-2014/\n\n
STATUS:CONFIRMED
CREATED:20221014T114700Z
LAST-MODIFIED:20221014T114711Z
END:VEVENT
END:VCALENDAR
