BEGIN:VCALENDAR
VERSION:2.0
PRODID:-//Sabre//Sabre VObject 4.5.8//EN
CALSCALE:GREGORIAN
NAME:AC Paris 2015
X-WR-CALNAME:AC Paris 2015
BEGIN:VTIMEZONE
TZID:UTC
X-MICROSOFT-CDO-TZID:0
BEGIN:STANDARD
DTSTART:20140510T000000
TZOFFSETFROM:+0000
TZOFFSETTO:+0000
TZNAME:UTC
END:STANDARD
END:VTIMEZONE
BEGIN:VEVENT
UID:0413fbd8-5c17-4131-bbc9-1996294b3547
DTSTAMP:20221014T114707Z
SUMMARY:AC Paris 2015
DTSTART:20150505T000000Z
DTEND:20150507T235959Z
DESCRIPTION:https://www.w3.org/events/ac/2015/ac-paris-2015/\n\n
STATUS:CONFIRMED
CREATED:20221014T114700Z
LAST-MODIFIED:20221014T114707Z
END:VEVENT
END:VCALENDAR
