BEGIN:VCALENDAR
VERSION:2.0
PRODID:-//Sabre//Sabre VObject 4.5.8//EN
CALSCALE:GREGORIAN
NAME:AC Sapporo 2015
X-WR-CALNAME:AC Sapporo 2015
BEGIN:VTIMEZONE
TZID:UTC
X-MICROSOFT-CDO-TZID:0
BEGIN:STANDARD
DTSTART:20141031T000000
TZOFFSETFROM:+0000
TZOFFSETTO:+0000
TZNAME:UTC
END:STANDARD
END:VTIMEZONE
BEGIN:VEVENT
UID:023a3cae-9559-4429-ab46-01b81c09c58c
DTSTAMP:20221014T114722Z
SUMMARY:AC Sapporo 2015
DTSTART:20151026T000000Z
DTEND:20151030T235959Z
DESCRIPTION:https://www.w3.org/events/ac/2015/ac-sapporo-2015/\n\n
STATUS:CONFIRMED
CREATED:20221014T114700Z
LAST-MODIFIED:20221014T114722Z
END:VEVENT
END:VCALENDAR
