BEGIN:VCALENDAR
VERSION:2.0
PRODID:-//Sabre//Sabre VObject 4.5.8//EN
CALSCALE:GREGORIAN
NAME:AC Cambridge 2016
X-WR-CALNAME:AC Cambridge 2016
BEGIN:VTIMEZONE
TZID:UTC
X-MICROSOFT-CDO-TZID:0
BEGIN:STANDARD
DTSTART:20150326T000000
TZOFFSETFROM:+0000
TZOFFSETTO:+0000
TZNAME:UTC
END:STANDARD
END:VTIMEZONE
BEGIN:VEVENT
UID:ae0b7240-5d87-482c-8b3f-0712eb6d2a69
DTSTAMP:20221014T114717Z
SUMMARY:AC Cambridge 2016
DTSTART:20160320T000000Z
DTEND:20160322T235959Z
DESCRIPTION:https://www.w3.org/events/ac/2016/ac-cambridge-2016/\n\n
STATUS:CONFIRMED
CREATED:20221014T114700Z
LAST-MODIFIED:20221014T114717Z
END:VEVENT
END:VCALENDAR
