BEGIN:VCALENDAR
VERSION:2.0
PRODID:-//Sabre//Sabre VObject 4.5.8//EN
CALSCALE:GREGORIAN
NAME:AC Beijing 2017
X-WR-CALNAME:AC Beijing 2017
BEGIN:VTIMEZONE
TZID:UTC
X-MICROSOFT-CDO-TZID:0
BEGIN:STANDARD
DTSTART:20160428T000000
TZOFFSETFROM:+0000
TZOFFSETTO:+0000
TZNAME:UTC
END:STANDARD
END:VTIMEZONE
BEGIN:VEVENT
UID:5df2560d-261c-4eb4-8e09-4e59d8506cb0
DTSTAMP:20221014T114723Z
SUMMARY:AC Beijing 2017
DTSTART:20170423T000000Z
DTEND:20170425T235959Z
DESCRIPTION:https://www.w3.org/events/ac/2017/ac-beijing-2017/\n\n
STATUS:CONFIRMED
CREATED:20221014T114700Z
LAST-MODIFIED:20221014T114723Z
END:VEVENT
END:VCALENDAR
