BEGIN:VCALENDAR
VERSION:2.0
PRODID:-//Sabre//Sabre VObject 4.5.8//EN
CALSCALE:GREGORIAN
NAME:AC Burlingame 2017
X-WR-CALNAME:AC Burlingame 2017
BEGIN:VTIMEZONE
TZID:UTC
X-MICROSOFT-CDO-TZID:0
BEGIN:STANDARD
DTSTART:20161112T000000
TZOFFSETFROM:+0000
TZOFFSETTO:+0000
TZNAME:UTC
END:STANDARD
END:VTIMEZONE
BEGIN:VEVENT
UID:966a1819-2615-4b89-a24d-9c8fab8d0ca7
DTSTAMP:20221014T114725Z
SUMMARY:AC Burlingame 2017
DTSTART:20171107T000000Z
DTEND:20171109T235959Z
DESCRIPTION:https://www.w3.org/events/ac/2017/ac-burlingame-2017/\n\n
STATUS:CONFIRMED
CREATED:20221014T114700Z
LAST-MODIFIED:20221014T114725Z
END:VEVENT
END:VCALENDAR
