BEGIN:VCALENDAR
VERSION:2.0
PRODID:-//Sabre//Sabre VObject 4.5.8//EN
CALSCALE:GREGORIAN
NAME:AC Berlin 2018
X-WR-CALNAME:AC Berlin 2018
BEGIN:VTIMEZONE
TZID:UTC
X-MICROSOFT-CDO-TZID:0
BEGIN:STANDARD
DTSTART:20170518T000000
TZOFFSETFROM:+0000
TZOFFSETTO:+0000
TZNAME:UTC
END:STANDARD
END:VTIMEZONE
BEGIN:VEVENT
UID:d34af577-b0cd-4d51-b1fd-d0a7b1d5649a
DTSTAMP:20221014T114735Z
SUMMARY:AC Berlin 2018
DTSTART:20180513T000000Z
DTEND:20180515T235959Z
DESCRIPTION:https://www.w3.org/events/ac/2018/ac-berlin-2018/\n\n
STATUS:CONFIRMED
CREATED:20221014T114700Z
LAST-MODIFIED:20221014T114735Z
END:VEVENT
END:VCALENDAR
