BEGIN:VCALENDAR
VERSION:2.0
PRODID:-//Sabre//Sabre VObject 4.5.8//EN
CALSCALE:GREGORIAN
NAME:AC Lyon 2018
X-WR-CALNAME:AC Lyon 2018
BEGIN:VTIMEZONE
TZID:UTC
X-MICROSOFT-CDO-TZID:0
BEGIN:STANDARD
DTSTART:20171028T000000
TZOFFSETFROM:+0000
TZOFFSETTO:+0000
TZNAME:UTC
END:STANDARD
END:VTIMEZONE
BEGIN:VEVENT
UID:1b5846f2-077e-4a23-aa8c-f4c0632dc01f
DTSTAMP:20221014T114749Z
SUMMARY:AC Lyon 2018
DTSTART:20181023T000000Z
DTEND:20181025T235959Z
DESCRIPTION:https://www.w3.org/events/ac/2018/ac-lyon-2018/\n\n
STATUS:CONFIRMED
CREATED:20221014T114700Z
LAST-MODIFIED:20221014T114749Z
END:VEVENT
END:VCALENDAR
