BEGIN:VCALENDAR
VERSION:2.0
PRODID:-//Sabre//Sabre VObject 4.5.8//EN
CALSCALE:GREGORIAN
NAME:AC Fukuoka 2019
X-WR-CALNAME:AC Fukuoka 2019
BEGIN:VTIMEZONE
TZID:UTC
X-MICROSOFT-CDO-TZID:0
BEGIN:STANDARD
DTSTART:20180922T000000
TZOFFSETFROM:+0000
TZOFFSETTO:+0000
TZNAME:UTC
END:STANDARD
END:VTIMEZONE
BEGIN:VEVENT
UID:888b417e-5880-4e51-bb2a-edf571cc5cdf
DTSTAMP:20221014T114758Z
SUMMARY:AC Fukuoka 2019
DTSTART:20190917T000000Z
DTEND:20190919T235959Z
DESCRIPTION:https://www.w3.org/events/ac/2019/ac-fukuoka-2019/\n\n
STATUS:CONFIRMED
CREATED:20221014T114700Z
LAST-MODIFIED:20221014T114758Z
END:VEVENT
END:VCALENDAR
