BEGIN:VCALENDAR
VERSION:2.0
PRODID:-//Sabre//Sabre VObject 4.5.8//EN
CALSCALE:GREGORIAN
NAME:AC Quebec 2019
X-WR-CALNAME:AC Quebec 2019
BEGIN:VTIMEZONE
TZID:UTC
X-MICROSOFT-CDO-TZID:0
BEGIN:STANDARD
DTSTART:20180412T000000
TZOFFSETFROM:+0000
TZOFFSETTO:+0000
TZNAME:UTC
END:STANDARD
END:VTIMEZONE
BEGIN:VEVENT
UID:324b9b44-5720-4fcb-90b1-b99fa97b637c
DTSTAMP:20221014T114746Z
SUMMARY:AC Quebec 2019
DTSTART:20190407T000000Z
DTEND:20190409T235959Z
DESCRIPTION:https://www.w3.org/events/ac/2019/ac-quebec-2019/\n\n
STATUS:CONFIRMED
CREATED:20221014T114700Z
LAST-MODIFIED:20221014T114746Z
END:VEVENT
END:VCALENDAR
