BEGIN:VCALENDAR
VERSION:2.0
PRODID:-//Sabre//Sabre VObject 4.5.8//EN
CALSCALE:GREGORIAN
NAME:AC Meeting 2020
X-WR-CALNAME:AC Meeting 2020
BEGIN:VTIMEZONE
TZID:UTC
X-MICROSOFT-CDO-TZID:0
BEGIN:STANDARD
DTSTART:20191026T000000
TZOFFSETFROM:+0000
TZOFFSETTO:+0000
TZNAME:UTC
END:STANDARD
END:VTIMEZONE
BEGIN:VEVENT
UID:528660a2-6209-4c44-bb24-389908e09c1a
DTSTAMP:20221014T114804Z
SUMMARY:AC Meeting 2020
DTSTART:20201020T000000Z
DTEND:20201020T235959Z
DESCRIPTION:https://www.w3.org/events/ac/2020/ac-meeting-2020/\n\n
STATUS:CONFIRMED
CREATED:20221014T114800Z
LAST-MODIFIED:20221014T114804Z
END:VEVENT
END:VCALENDAR
