BEGIN:VCALENDAR
VERSION:2.0
PRODID:-//Sabre//Sabre VObject 4.5.8//EN
CALSCALE:GREGORIAN
NAME:Remote-only AC 2020
X-WR-CALNAME:Remote-only AC 2020
BEGIN:VTIMEZONE
TZID:UTC
X-MICROSOFT-CDO-TZID:0
BEGIN:STANDARD
DTSTART:20190524T000000
TZOFFSETFROM:+0000
TZOFFSETTO:+0000
TZNAME:UTC
END:STANDARD
END:VTIMEZONE
BEGIN:VEVENT
UID:f62cb066-a9fa-4117-9290-6581ec45f8a0
DTSTAMP:20221014T114754Z
SUMMARY:Remote-only AC 2020
DTSTART:20200518T000000Z
DTEND:20200519T235959Z
DESCRIPTION:https://www.w3.org/events/ac/2020/remote-only-ac-2020/\n\n
STATUS:CONFIRMED
CREATED:20221014T114700Z
LAST-MODIFIED:20221014T114754Z
END:VEVENT
END:VCALENDAR
