BEGIN:VCALENDAR
VERSION:2.0
PRODID:-//Sabre//Sabre VObject 4.5.8//EN
CALSCALE:GREGORIAN
NAME:AC Meeting 2021
X-WR-CALNAME:AC Meeting 2021
BEGIN:VTIMEZONE
TZID:UTC
X-MICROSOFT-CDO-TZID:0
BEGIN:STANDARD
DTSTART:20200501T000000
TZOFFSETFROM:+0000
TZOFFSETTO:+0000
TZNAME:UTC
END:STANDARD
END:VTIMEZONE
BEGIN:VEVENT
UID:523b75a4-173d-4acc-a07a-96de4e11fabd
DTSTAMP:20221014T114804Z
SUMMARY:AC Meeting 2021
DTSTART:20210426T000000Z
DTEND:20210427T235959Z
DESCRIPTION:https://www.w3.org/events/ac/2021/ac-meeting-2021/\n\n
STATUS:CONFIRMED
CREATED:20221014T114800Z
LAST-MODIFIED:20221014T114804Z
END:VEVENT
END:VCALENDAR
