BEGIN:VCALENDAR
VERSION:2.0
PRODID:-//Sabre//Sabre VObject 4.5.8//EN
CALSCALE:GREGORIAN
NAME:October AC 2021
X-WR-CALNAME:October AC 2021
BEGIN:VTIMEZONE
TZID:UTC
X-MICROSOFT-CDO-TZID:0
BEGIN:STANDARD
DTSTART:20201017T000000
TZOFFSETFROM:+0000
TZOFFSETTO:+0000
TZNAME:UTC
END:STANDARD
END:VTIMEZONE
BEGIN:VEVENT
UID:cc740788-ca3d-4a93-b1a4-d11915db8140
DTSTAMP:20221014T114806Z
SUMMARY:October AC 2021
DTSTART:20211012T000000Z
DTEND:20211012T235959Z
DESCRIPTION:https://www.w3.org/events/ac/2021/october-ac-2021/\n\n
STATUS:CONFIRMED
CREATED:20221014T114800Z
LAST-MODIFIED:20221014T114806Z
END:VEVENT
END:VCALENDAR
